BEGIN:VCALENDAR
VERSION:2.0
PRODID:-//Wet On Wellington - ECPv6.15.11//NONSGML v1.0//EN
CALSCALE:GREGORIAN
METHOD:PUBLISH
X-WR-CALNAME:Wet On Wellington
X-ORIGINAL-URL:https://old.wetonwellington.com.au
X-WR-CALDESC:Events for Wet On Wellington
REFRESH-INTERVAL;VALUE=DURATION:PT1H
X-Robots-Tag:noindex
X-PUBLISHED-TTL:PT1H
BEGIN:VTIMEZONE
TZID:Australia/Melbourne
BEGIN:STANDARD
TZOFFSETFROM:+1100
TZOFFSETTO:+1000
TZNAME:AEST
DTSTART:20230401T160000
END:STANDARD
BEGIN:DAYLIGHT
TZOFFSETFROM:+1000
TZOFFSETTO:+1100
TZNAME:AEDT
DTSTART:20230930T160000
END:DAYLIGHT
BEGIN:STANDARD
TZOFFSETFROM:+1100
TZOFFSETTO:+1000
TZNAME:AEST
DTSTART:20240406T160000
END:STANDARD
BEGIN:DAYLIGHT
TZOFFSETFROM:+1000
TZOFFSETTO:+1100
TZNAME:AEDT
DTSTART:20241005T160000
END:DAYLIGHT
BEGIN:STANDARD
TZOFFSETFROM:+1100
TZOFFSETTO:+1000
TZNAME:AEST
DTSTART:20250405T160000
END:STANDARD
BEGIN:DAYLIGHT
TZOFFSETFROM:+1000
TZOFFSETTO:+1100
TZNAME:AEDT
DTSTART:20251004T160000
END:DAYLIGHT
BEGIN:STANDARD
TZOFFSETFROM:+1100
TZOFFSETTO:+1000
TZNAME:AEST
DTSTART:20260404T160000
END:STANDARD
BEGIN:DAYLIGHT
TZOFFSETFROM:+1000
TZOFFSETTO:+1100
TZNAME:AEDT
DTSTART:20261003T160000
END:DAYLIGHT
END:VTIMEZONE
BEGIN:VEVENT
DTSTART;TZID=Australia/Melbourne:20240423T183000
DTEND;TZID=Australia/Melbourne:20240424T020000
DTSTAMP:20260420T192157
CREATED:20240423T001940Z
LAST-MODIFIED:20250310T012130Z
UID:6337-1713897000-1713924000@old.wetonwellington.com.au
SUMMARY:Furocious Bear Night
DESCRIPTION:A night for Bears\, Cubs\, Otters & Pandas…. And those who love them! Cum on in and wet your fur!
URL:https://old.wetonwellington.com.au/events/furocious-bear-night/
LOCATION:Wet on Wellington\, 162 Wellington Street\, Collingwood\, VIC\, 3066\, Australia
ATTACH;FMTTYPE=image/jpeg:https://old.wetonwellington.com.au/wp-content/uploads/2024/04/Bear-Night-1080p-1.jpg
END:VEVENT
BEGIN:VEVENT
DTSTART;TZID=Australia/Melbourne:20240513T183000
DTEND;TZID=Australia/Melbourne:20240514T020000
DTSTAMP:20260420T192157
CREATED:20240422T235638Z
LAST-MODIFIED:20250611T025215Z
UID:6240-1715625000-1715652000@old.wetonwellington.com.au
SUMMARY:Xposed Nude Night
DESCRIPTION:Strip down and strut your stuff during Nude Night! Time to get those c*ck’s out and those bums up! Let it all hang out and get ‘xposed’ in a non-judgemental space. \nCompulsory nudity venue wide! \n*$35 Entry on a Public Holiday.
URL:https://old.wetonwellington.com.au/events/xposed-nude-night/
LOCATION:Wet on Wellington\, 162 Wellington Street\, Collingwood\, VIC\, 3066\, Australia
ATTACH;FMTTYPE=image/jpeg:https://old.wetonwellington.com.au/wp-content/uploads/2024/04/Xposed-Nude-1080P-2.jpg
END:VEVENT
BEGIN:VEVENT
DTSTART;TZID=Australia/Melbourne:20241103T140000
DTEND;TZID=Australia/Melbourne:20241103T200000
DTSTAMP:20260420T192157
CREATED:20241104T051108Z
LAST-MODIFIED:20250310T011718Z
UID:7531-1730642400-1730664000@old.wetonwellington.com.au
SUMMARY:Tubs Sunday Afternoon
DESCRIPTION:EVERY SUNDAY FROM 2PM – 8PM\n\nA Slo Mo Disco Sunday Sauna Sesh\n\nCome have a splash and a pash as Melbourne’s cheekiest summer Sunday Sesh  THE TUBS \n\n The sun deck will be open\n The pool will be primed\n The spa will be bubbling\n The bar will be flowing\n The disco balls will be spinning\n\nPaying homage to the bathhouses of the 70s join us as we ease on down the road with all your favourite divas – Whitney\, Grace\, Chaka\, Diana and more…\n\nTowels and Lockers provided on entry. The Tubs is a Speedo\, Swimsuit and Kaftan friendly event. This is a judgement free zone.\n\nThis event is not ticketed\, entry on the door only.\n\nRemember to slip\, slop\, slap.. 
URL:https://old.wetonwellington.com.au/events/tubs/
LOCATION:Wet on Wellington\, 162 Wellington Street\, Collingwood\, VIC\, 3066\, Australia
ATTACH;FMTTYPE=image/jpeg:https://old.wetonwellington.com.au/wp-content/uploads/2024/11/Tubs-1080p.jpg
END:VEVENT
BEGIN:VEVENT
DTSTART;TZID=Australia/Melbourne:20240503T200000
DTEND;TZID=Australia/Melbourne:20240503T230000
DTSTAMP:20260420T192157
CREATED:20240507T033841Z
LAST-MODIFIED:20250627T105358Z
UID:7474-1714766400-1714777200@old.wetonwellington.com.au
SUMMARY:Happy Hour
DESCRIPTION:Kick off the weekend the RIGHT way at Wet on Wellington with Happy Hour every Friday from 8pm till 11pm! \nEnjoy a sauna with a $5 beer or even hang out in the spa with a $6 vodka\, lime and soda! Whatever your poison\, we have it here for Happy Hour! \n$5 OFF SELECT BEER & WINE AND $6 OFF SELECT SPIRITS!! \nDon’t forget we’re also open 24hrs till Monday 2am!!
URL:https://old.wetonwellington.com.au/events/happy-hour/
LOCATION:Wet on Wellington\, 162 Wellington Street\, Collingwood\, VIC\, 3066\, Australia
ATTACH;FMTTYPE=image/png:https://old.wetonwellington.com.au/wp-content/uploads/2024/05/Red-Cream-Modern-Happy-Hour-Instagram-Story-1920-x-1080-px.png
END:VEVENT
BEGIN:VEVENT
DTSTART;TZID=Australia/Melbourne:20240425T183000
DTEND;TZID=Australia/Melbourne:20240426T020000
DTSTAMP:20260420T192157
CREATED:20240507T011721Z
LAST-MODIFIED:20250310T012923Z
UID:7471-1714069800-1714096800@old.wetonwellington.com.au
SUMMARY:Queer AF
DESCRIPTION:A night for all our Gay\, Bi\, Trans\, Crossdressers and anyone part of our LGBTQI+ community – Whoever you are\, whatever you’re into\, YOU ARE WELCOME!
URL:https://old.wetonwellington.com.au/events/queer-af/
LOCATION:Wet on Wellington\, 162 Wellington Street\, Collingwood\, VIC\, 3066\, Australia
ATTACH;FMTTYPE=image/jpeg:https://old.wetonwellington.com.au/wp-content/uploads/2024/05/Queer-AF-updated-2025-1080p.jpg
END:VEVENT
BEGIN:VEVENT
DTSTART;TZID=Australia/Melbourne:20240424T183000
DTEND;TZID=Australia/Melbourne:20240425T020000
DTSTAMP:20260420T192157
CREATED:20240423T002201Z
LAST-MODIFIED:20250310T012452Z
UID:6439-1713983400-1714010400@old.wetonwellington.com.au
SUMMARY:Silver Daddy Night
DESCRIPTION:A night for all our sexy DADDIES and those who love them!
URL:https://old.wetonwellington.com.au/events/silver-daddy-night/
LOCATION:Wet on Wellington\, 162 Wellington Street\, Collingwood\, VIC\, 3066\, Australia
ATTACH;FMTTYPE=image/jpeg:https://old.wetonwellington.com.au/wp-content/uploads/2024/04/Silver-2025-1080p.jpg
END:VEVENT
BEGIN:VEVENT
DTSTART;TZID=Australia/Melbourne:20240423T183000
DTEND;TZID=Australia/Melbourne:20240424T020000
DTSTAMP:20260420T192157
CREATED:20240423T001940Z
LAST-MODIFIED:20250310T012130Z
UID:6337-1713897000-1713924000@old.wetonwellington.com.au
SUMMARY:Furocious Bear Night
DESCRIPTION:A night for Bears\, Cubs\, Otters & Pandas…. And those who love them! Cum on in and wet your fur!
URL:https://old.wetonwellington.com.au/events/furocious-bear-night/
LOCATION:Wet on Wellington\, 162 Wellington Street\, Collingwood\, VIC\, 3066\, Australia
ATTACH;FMTTYPE=image/jpeg:https://old.wetonwellington.com.au/wp-content/uploads/2024/04/Bear-Night-1080p-1.jpg
END:VEVENT
BEGIN:VEVENT
DTSTART;TZID=Australia/Melbourne:20240520T190000
DTEND;TZID=Australia/Melbourne:20240521T020000
DTSTAMP:20260420T192157
CREATED:20240423T014302Z
LAST-MODIFIED:20250423T050748Z
UID:7126-1716231600-1716256800@old.wetonwellington.com.au
SUMMARY:Swingers Couples Pool Party
DESCRIPTION:$100 COUPLES\, $45 LADIES\, $350 SINGLE MEN* | Melbourne’ s most luxurious and erotic Men’s Club opens its doors for Swingers to engage in the sensuality of a naked and uninhibited Pool Party. Guests can indulge in all of the erotic and luxurious facilities that Wet On Wellington is famous for. \n*Single Men are required to pre-book by calling the venue on (03) 9419 2210. \nPlease note: Couples that arrive together must also depart together as a couple. Females can not depart without their male partner. Men are NOT allowed to be upstairs without a female partner unless entered as a Single Male.
URL:https://old.wetonwellington.com.au/events/swingers-couples-pool-party/
LOCATION:Wet on Wellington\, 162 Wellington Street\, Collingwood\, VIC\, 3066\, Australia
ATTACH;FMTTYPE=image/jpeg:https://old.wetonwellington.com.au/wp-content/uploads/2024/04/Swingers-Couples-Pool-Party-1080p-2025.jpg
ORGANIZER;CN="Melbourne Swingers":MAILTO:info@melbourne-swingers.com.au
END:VEVENT
BEGIN:VEVENT
DTSTART;TZID=Australia/Melbourne:20241103T140000
DTEND;TZID=Australia/Melbourne:20241103T200000
DTSTAMP:20260420T192157
CREATED:20241104T051108Z
LAST-MODIFIED:20250310T011718Z
UID:7531-1730642400-1730664000@old.wetonwellington.com.au
SUMMARY:Tubs Sunday Afternoon
DESCRIPTION:EVERY SUNDAY FROM 2PM – 8PM\n\nA Slo Mo Disco Sunday Sauna Sesh\n\nCome have a splash and a pash as Melbourne’s cheekiest summer Sunday Sesh  THE TUBS \n\n The sun deck will be open\n The pool will be primed\n The spa will be bubbling\n The bar will be flowing\n The disco balls will be spinning\n\nPaying homage to the bathhouses of the 70s join us as we ease on down the road with all your favourite divas – Whitney\, Grace\, Chaka\, Diana and more…\n\nTowels and Lockers provided on entry. The Tubs is a Speedo\, Swimsuit and Kaftan friendly event. This is a judgement free zone.\n\nThis event is not ticketed\, entry on the door only.\n\nRemember to slip\, slop\, slap.. 
URL:https://old.wetonwellington.com.au/events/tubs/
LOCATION:Wet on Wellington\, 162 Wellington Street\, Collingwood\, VIC\, 3066\, Australia
ATTACH;FMTTYPE=image/jpeg:https://old.wetonwellington.com.au/wp-content/uploads/2024/11/Tubs-1080p.jpg
END:VEVENT
BEGIN:VEVENT
DTSTART;TZID=Australia/Melbourne:20240503T200000
DTEND;TZID=Australia/Melbourne:20240503T230000
DTSTAMP:20260420T192157
CREATED:20240507T033841Z
LAST-MODIFIED:20250627T105358Z
UID:7474-1714766400-1714777200@old.wetonwellington.com.au
SUMMARY:Happy Hour
DESCRIPTION:Kick off the weekend the RIGHT way at Wet on Wellington with Happy Hour every Friday from 8pm till 11pm! \nEnjoy a sauna with a $5 beer or even hang out in the spa with a $6 vodka\, lime and soda! Whatever your poison\, we have it here for Happy Hour! \n$5 OFF SELECT BEER & WINE AND $6 OFF SELECT SPIRITS!! \nDon’t forget we’re also open 24hrs till Monday 2am!!
URL:https://old.wetonwellington.com.au/events/happy-hour/
LOCATION:Wet on Wellington\, 162 Wellington Street\, Collingwood\, VIC\, 3066\, Australia
ATTACH;FMTTYPE=image/png:https://old.wetonwellington.com.au/wp-content/uploads/2024/05/Red-Cream-Modern-Happy-Hour-Instagram-Story-1920-x-1080-px.png
END:VEVENT
BEGIN:VEVENT
DTSTART;TZID=Australia/Melbourne:20240425T183000
DTEND;TZID=Australia/Melbourne:20240426T020000
DTSTAMP:20260420T192157
CREATED:20240507T011721Z
LAST-MODIFIED:20250310T012923Z
UID:7471-1714069800-1714096800@old.wetonwellington.com.au
SUMMARY:Queer AF
DESCRIPTION:A night for all our Gay\, Bi\, Trans\, Crossdressers and anyone part of our LGBTQI+ community – Whoever you are\, whatever you’re into\, YOU ARE WELCOME!
URL:https://old.wetonwellington.com.au/events/queer-af/
LOCATION:Wet on Wellington\, 162 Wellington Street\, Collingwood\, VIC\, 3066\, Australia
ATTACH;FMTTYPE=image/jpeg:https://old.wetonwellington.com.au/wp-content/uploads/2024/05/Queer-AF-updated-2025-1080p.jpg
END:VEVENT
BEGIN:VEVENT
DTSTART;TZID=Australia/Melbourne:20240424T183000
DTEND;TZID=Australia/Melbourne:20240425T020000
DTSTAMP:20260420T192157
CREATED:20240423T002201Z
LAST-MODIFIED:20250310T012452Z
UID:6439-1713983400-1714010400@old.wetonwellington.com.au
SUMMARY:Silver Daddy Night
DESCRIPTION:A night for all our sexy DADDIES and those who love them!
URL:https://old.wetonwellington.com.au/events/silver-daddy-night/
LOCATION:Wet on Wellington\, 162 Wellington Street\, Collingwood\, VIC\, 3066\, Australia
ATTACH;FMTTYPE=image/jpeg:https://old.wetonwellington.com.au/wp-content/uploads/2024/04/Silver-2025-1080p.jpg
END:VEVENT
BEGIN:VEVENT
DTSTART;TZID=Australia/Melbourne:20240423T183000
DTEND;TZID=Australia/Melbourne:20240424T020000
DTSTAMP:20260420T192157
CREATED:20240423T001940Z
LAST-MODIFIED:20250310T012130Z
UID:6337-1713897000-1713924000@old.wetonwellington.com.au
SUMMARY:Furocious Bear Night
DESCRIPTION:A night for Bears\, Cubs\, Otters & Pandas…. And those who love them! Cum on in and wet your fur!
URL:https://old.wetonwellington.com.au/events/furocious-bear-night/
LOCATION:Wet on Wellington\, 162 Wellington Street\, Collingwood\, VIC\, 3066\, Australia
ATTACH;FMTTYPE=image/jpeg:https://old.wetonwellington.com.au/wp-content/uploads/2024/04/Bear-Night-1080p-1.jpg
END:VEVENT
BEGIN:VEVENT
DTSTART;TZID=Australia/Melbourne:20240513T183000
DTEND;TZID=Australia/Melbourne:20240514T020000
DTSTAMP:20260420T192157
CREATED:20240422T235638Z
LAST-MODIFIED:20250611T025215Z
UID:6240-1715625000-1715652000@old.wetonwellington.com.au
SUMMARY:Xposed Nude Night
DESCRIPTION:Strip down and strut your stuff during Nude Night! Time to get those c*ck’s out and those bums up! Let it all hang out and get ‘xposed’ in a non-judgemental space. \nCompulsory nudity venue wide! \n*$35 Entry on a Public Holiday.
URL:https://old.wetonwellington.com.au/events/xposed-nude-night/
LOCATION:Wet on Wellington\, 162 Wellington Street\, Collingwood\, VIC\, 3066\, Australia
ATTACH;FMTTYPE=image/jpeg:https://old.wetonwellington.com.au/wp-content/uploads/2024/04/Xposed-Nude-1080P-2.jpg
END:VEVENT
BEGIN:VEVENT
DTSTART;TZID=Australia/Melbourne:20250208T120000
DTEND;TZID=Australia/Melbourne:20250208T200000
DTSTAMP:20260420T192157
CREATED:20250203T035028Z
LAST-MODIFIED:20250203T035029Z
UID:7588-1739016000-1739044800@old.wetonwellington.com.au
SUMMARY:Midsumma Pool Party
DESCRIPTION:We’re back with the BIGGEST\, SEXIEST and HOTTEST Pool Party! Join hundreds of Melbourne’s men\, male-identifying and male-presenting people! Enjoy the 25m heated pool surrounded by sexy people! Have a drink or two and perhaps even a cocktail from our amazing mixologist! Dance till you drop with our three fabulously handsome DJs and play your way through a labyrinth of play spaces. \nThe spa is hot\, dance floor’s hot and the boys are HOT HOT HOT! \nTICKETS: https://melbournesaunas.com.au/tickets/midsummapoolparty
URL:https://old.wetonwellington.com.au/events/midsumma-pool-party/
LOCATION:Wet on Wellington\, 162 Wellington Street\, Collingwood\, VIC\, 3066\, Australia
ATTACH;FMTTYPE=image/jpeg:https://old.wetonwellington.com.au/wp-content/uploads/2024/11/Boys-Midsumma-Pool-Party-800-x-475.jpg
END:VEVENT
BEGIN:VEVENT
DTSTART;TZID=Australia/Melbourne:20250207T183000
DTEND;TZID=Australia/Melbourne:20250207T230000
DTSTAMP:20260420T192157
CREATED:20250203T023703Z
LAST-MODIFIED:20250203T034455Z
UID:7586-1738953000-1738969200@old.wetonwellington.com.au
SUMMARY:Happy Hour - Midsumma Special
DESCRIPTION:Why not kick off the last weekend of Midsumma with our Happy Hour! Going from 6:30pm through till 11pm! Enjoy cocktail specials and cheap beer\, wine and spirits! Dance the week off with our special DJ all night! \nIt’s the best way to start the weekend off! \nThis event is non-ticketed. $30 at the door.
URL:https://old.wetonwellington.com.au/events/happy-hour-midsumma-special/
LOCATION:Wet on Wellington\, 162 Wellington Street\, Collingwood\, VIC\, 3066\, Australia
ATTACH;FMTTYPE=image/jpeg:https://old.wetonwellington.com.au/wp-content/uploads/2024/11/Happy-Hour-Midsumma-Pool-Party-800-x-475.jpg
END:VEVENT
BEGIN:VEVENT
DTSTART;TZID=Australia/Melbourne:20250206T183000
DTEND;TZID=Australia/Melbourne:20250207T013000
DTSTAMP:20260420T192157
CREATED:20250203T011801Z
LAST-MODIFIED:20250203T011801Z
UID:7584-1738866600-1738891800@old.wetonwellington.com.au
SUMMARY:Queer AF - Midsumma Special
DESCRIPTION:It’s going to be Queer AF at Wet for Midsumma – a special queer pool party! Join 100s of Melbourne’s queers as you drink\, dance and play your way across a multi-level venue. Enjoy the 25m heated pool\, large spa\, steam room and sauna! \nWe’ve got some very sexy DJs spinning tunes for you to dance to also! \n  \nTICKETS: https://melbournesaunas.com.au/tickets/midsumma-queeraf
URL:https://old.wetonwellington.com.au/events/queeraf-midsummaspecial/
LOCATION:Wet on Wellington\, 162 Wellington Street\, Collingwood\, VIC\, 3066\, Australia
ATTACH;FMTTYPE=image/jpeg:https://old.wetonwellington.com.au/wp-content/uploads/2024/11/Queer-AF-Midsumma-Pool-Party-800-x-475.jpg
END:VEVENT
BEGIN:VEVENT
DTSTART;TZID=Australia/Melbourne:20250205T190000
DTEND;TZID=Australia/Melbourne:20250206T013000
DTSTAMP:20260420T192157
CREATED:20250106T014412Z
LAST-MODIFIED:20250106T014412Z
UID:7575-1738782000-1738805400@old.wetonwellington.com.au
SUMMARY:Lady Like - Midsumma Pool Party
DESCRIPTION:Play and explore your s*xual desires in a safe and non-judgmental environment in an environment full of feminine energy. Watch others play\, join in the fun\, have a spa or enjoy a cocktail at the bar… the night is yours! \nSorry gents\, no boys allowed. We welcome women and theybies of all sizes\, ages and experiences. We welcome all Trans women\, Cis women\, trans femme and femme presenting non-binary individuals to this event. \nTICKET LINK BELOW
URL:https://old.wetonwellington.com.au/events/lady-like-midsumma-pool-party/
LOCATION:Wet on Wellington\, 162 Wellington Street\, Collingwood\, VIC\, 3066\, Australia
ATTACH;FMTTYPE=image/jpeg:https://old.wetonwellington.com.au/wp-content/uploads/2024/11/LadyLike-Midsumma-Pool-Party-800-x-475.jpg
END:VEVENT
BEGIN:VEVENT
DTSTART;TZID=Australia/Melbourne:20250204T183000
DTEND;TZID=Australia/Melbourne:20250205T020000
DTSTAMP:20260420T192157
CREATED:20250106T014109Z
LAST-MODIFIED:20250106T014109Z
UID:7573-1738693800-1738720800@old.wetonwellington.com.au
SUMMARY:Furocious - Midsumma Special
DESCRIPTION:Come join us for our Midsumma Special ‘Furocious’ Bear Night! Enjoy the 25m heated pool\, dance to the amazing beats of our sexy DJs and play your way across a multi-level labyrinth of play spaces. \nIt’s going to be a grizzly time! \nTICKET LINK BELOW
URL:https://old.wetonwellington.com.au/events/furocious-midsumma-special/
LOCATION:Wet on Wellington\, 162 Wellington Street\, Collingwood\, VIC\, 3066\, Australia
ATTACH;FMTTYPE=image/jpeg:https://old.wetonwellington.com.au/wp-content/uploads/2024/11/Bears-Midsumma-Pool-Party-800-x-475.jpg
END:VEVENT
BEGIN:VEVENT
DTSTART;TZID=Australia/Melbourne:20250203T183000
DTEND;TZID=Australia/Melbourne:20250204T020000
DTSTAMP:20260420T192157
CREATED:20250105T234126Z
LAST-MODIFIED:20250105T234203Z
UID:7571-1738607400-1738634400@old.wetonwellington.com.au
SUMMARY:Under 30's Midsumma Special
DESCRIPTION:Calling all boys under 30!! Join us for our Midsumma Special ‘Under 30’s’ Night! Enjoy the 25m heated pool\, dance to the amazing beats of our sexy DJs and play your way across a multi level labyrinth of play spaces. ID is required for entry. \n VCAT Exemption: #H112/2023 \nTICKET LINK BELOW \n 
URL:https://old.wetonwellington.com.au/events/under-30s-midsumma-special/
LOCATION:Wet on Wellington\, 162 Wellington Street\, Collingwood\, VIC\, 3066\, Australia
ATTACH;FMTTYPE=image/jpeg:https://old.wetonwellington.com.au/wp-content/uploads/2024/11/Under-30s-Midsumma-Pool-Party-800-x-475.jpg
END:VEVENT
BEGIN:VEVENT
DTSTART;TZID=Australia/Melbourne:20241103T140000
DTEND;TZID=Australia/Melbourne:20241103T200000
DTSTAMP:20260420T192157
CREATED:20241104T051108Z
LAST-MODIFIED:20250310T011718Z
UID:7531-1730642400-1730664000@old.wetonwellington.com.au
SUMMARY:Tubs Sunday Afternoon
DESCRIPTION:EVERY SUNDAY FROM 2PM – 8PM\n\nA Slo Mo Disco Sunday Sauna Sesh\n\nCome have a splash and a pash as Melbourne’s cheekiest summer Sunday Sesh  THE TUBS \n\n The sun deck will be open\n The pool will be primed\n The spa will be bubbling\n The bar will be flowing\n The disco balls will be spinning\n\nPaying homage to the bathhouses of the 70s join us as we ease on down the road with all your favourite divas – Whitney\, Grace\, Chaka\, Diana and more…\n\nTowels and Lockers provided on entry. The Tubs is a Speedo\, Swimsuit and Kaftan friendly event. This is a judgement free zone.\n\nThis event is not ticketed\, entry on the door only.\n\nRemember to slip\, slop\, slap.. 
URL:https://old.wetonwellington.com.au/events/tubs/
LOCATION:Wet on Wellington\, 162 Wellington Street\, Collingwood\, VIC\, 3066\, Australia
ATTACH;FMTTYPE=image/jpeg:https://old.wetonwellington.com.au/wp-content/uploads/2024/11/Tubs-1080p.jpg
END:VEVENT
BEGIN:VEVENT
DTSTART;TZID=Australia/Melbourne:20240503T200000
DTEND;TZID=Australia/Melbourne:20240503T230000
DTSTAMP:20260420T192157
CREATED:20240507T033841Z
LAST-MODIFIED:20250627T105358Z
UID:7474-1714766400-1714777200@old.wetonwellington.com.au
SUMMARY:Happy Hour
DESCRIPTION:Kick off the weekend the RIGHT way at Wet on Wellington with Happy Hour every Friday from 8pm till 11pm! \nEnjoy a sauna with a $5 beer or even hang out in the spa with a $6 vodka\, lime and soda! Whatever your poison\, we have it here for Happy Hour! \n$5 OFF SELECT BEER & WINE AND $6 OFF SELECT SPIRITS!! \nDon’t forget we’re also open 24hrs till Monday 2am!!
URL:https://old.wetonwellington.com.au/events/happy-hour/
LOCATION:Wet on Wellington\, 162 Wellington Street\, Collingwood\, VIC\, 3066\, Australia
ATTACH;FMTTYPE=image/png:https://old.wetonwellington.com.au/wp-content/uploads/2024/05/Red-Cream-Modern-Happy-Hour-Instagram-Story-1920-x-1080-px.png
END:VEVENT
BEGIN:VEVENT
DTSTART;TZID=Australia/Melbourne:20240425T183000
DTEND;TZID=Australia/Melbourne:20240426T020000
DTSTAMP:20260420T192157
CREATED:20240507T011721Z
LAST-MODIFIED:20250310T012923Z
UID:7471-1714069800-1714096800@old.wetonwellington.com.au
SUMMARY:Queer AF
DESCRIPTION:A night for all our Gay\, Bi\, Trans\, Crossdressers and anyone part of our LGBTQI+ community – Whoever you are\, whatever you’re into\, YOU ARE WELCOME!
URL:https://old.wetonwellington.com.au/events/queer-af/
LOCATION:Wet on Wellington\, 162 Wellington Street\, Collingwood\, VIC\, 3066\, Australia
ATTACH;FMTTYPE=image/jpeg:https://old.wetonwellington.com.au/wp-content/uploads/2024/05/Queer-AF-updated-2025-1080p.jpg
END:VEVENT
BEGIN:VEVENT
DTSTART;TZID=Australia/Melbourne:20240424T183000
DTEND;TZID=Australia/Melbourne:20240425T020000
DTSTAMP:20260420T192157
CREATED:20240423T002201Z
LAST-MODIFIED:20250310T012452Z
UID:6439-1713983400-1714010400@old.wetonwellington.com.au
SUMMARY:Silver Daddy Night
DESCRIPTION:A night for all our sexy DADDIES and those who love them!
URL:https://old.wetonwellington.com.au/events/silver-daddy-night/
LOCATION:Wet on Wellington\, 162 Wellington Street\, Collingwood\, VIC\, 3066\, Australia
ATTACH;FMTTYPE=image/jpeg:https://old.wetonwellington.com.au/wp-content/uploads/2024/04/Silver-2025-1080p.jpg
END:VEVENT
BEGIN:VEVENT
DTSTART;TZID=Australia/Melbourne:20240423T183000
DTEND;TZID=Australia/Melbourne:20240424T020000
DTSTAMP:20260420T192157
CREATED:20240423T001940Z
LAST-MODIFIED:20250310T012130Z
UID:6337-1713897000-1713924000@old.wetonwellington.com.au
SUMMARY:Furocious Bear Night
DESCRIPTION:A night for Bears\, Cubs\, Otters & Pandas…. And those who love them! Cum on in and wet your fur!
URL:https://old.wetonwellington.com.au/events/furocious-bear-night/
LOCATION:Wet on Wellington\, 162 Wellington Street\, Collingwood\, VIC\, 3066\, Australia
ATTACH;FMTTYPE=image/jpeg:https://old.wetonwellington.com.au/wp-content/uploads/2024/04/Bear-Night-1080p-1.jpg
END:VEVENT
BEGIN:VEVENT
DTSTART;TZID=Australia/Melbourne:20240513T183000
DTEND;TZID=Australia/Melbourne:20240514T020000
DTSTAMP:20260420T192157
CREATED:20240422T235638Z
LAST-MODIFIED:20250611T025215Z
UID:6240-1715625000-1715652000@old.wetonwellington.com.au
SUMMARY:Xposed Nude Night
DESCRIPTION:Strip down and strut your stuff during Nude Night! Time to get those c*ck’s out and those bums up! Let it all hang out and get ‘xposed’ in a non-judgemental space. \nCompulsory nudity venue wide! \n*$35 Entry on a Public Holiday.
URL:https://old.wetonwellington.com.au/events/xposed-nude-night/
LOCATION:Wet on Wellington\, 162 Wellington Street\, Collingwood\, VIC\, 3066\, Australia
ATTACH;FMTTYPE=image/jpeg:https://old.wetonwellington.com.au/wp-content/uploads/2024/04/Xposed-Nude-1080P-2.jpg
END:VEVENT
BEGIN:VEVENT
DTSTART;TZID=Australia/Melbourne:20241103T140000
DTEND;TZID=Australia/Melbourne:20241103T200000
DTSTAMP:20260420T192157
CREATED:20241104T051108Z
LAST-MODIFIED:20250310T011718Z
UID:7531-1730642400-1730664000@old.wetonwellington.com.au
SUMMARY:Tubs Sunday Afternoon
DESCRIPTION:EVERY SUNDAY FROM 2PM – 8PM\n\nA Slo Mo Disco Sunday Sauna Sesh\n\nCome have a splash and a pash as Melbourne’s cheekiest summer Sunday Sesh  THE TUBS \n\n The sun deck will be open\n The pool will be primed\n The spa will be bubbling\n The bar will be flowing\n The disco balls will be spinning\n\nPaying homage to the bathhouses of the 70s join us as we ease on down the road with all your favourite divas – Whitney\, Grace\, Chaka\, Diana and more…\n\nTowels and Lockers provided on entry. The Tubs is a Speedo\, Swimsuit and Kaftan friendly event. This is a judgement free zone.\n\nThis event is not ticketed\, entry on the door only.\n\nRemember to slip\, slop\, slap.. 
URL:https://old.wetonwellington.com.au/events/tubs/
LOCATION:Wet on Wellington\, 162 Wellington Street\, Collingwood\, VIC\, 3066\, Australia
ATTACH;FMTTYPE=image/jpeg:https://old.wetonwellington.com.au/wp-content/uploads/2024/11/Tubs-1080p.jpg
END:VEVENT
BEGIN:VEVENT
DTSTART;TZID=Australia/Melbourne:20240503T200000
DTEND;TZID=Australia/Melbourne:20240503T230000
DTSTAMP:20260420T192157
CREATED:20240507T033841Z
LAST-MODIFIED:20250627T105358Z
UID:7474-1714766400-1714777200@old.wetonwellington.com.au
SUMMARY:Happy Hour
DESCRIPTION:Kick off the weekend the RIGHT way at Wet on Wellington with Happy Hour every Friday from 8pm till 11pm! \nEnjoy a sauna with a $5 beer or even hang out in the spa with a $6 vodka\, lime and soda! Whatever your poison\, we have it here for Happy Hour! \n$5 OFF SELECT BEER & WINE AND $6 OFF SELECT SPIRITS!! \nDon’t forget we’re also open 24hrs till Monday 2am!!
URL:https://old.wetonwellington.com.au/events/happy-hour/
LOCATION:Wet on Wellington\, 162 Wellington Street\, Collingwood\, VIC\, 3066\, Australia
ATTACH;FMTTYPE=image/png:https://old.wetonwellington.com.au/wp-content/uploads/2024/05/Red-Cream-Modern-Happy-Hour-Instagram-Story-1920-x-1080-px.png
END:VEVENT
BEGIN:VEVENT
DTSTART;TZID=Australia/Melbourne:20240425T183000
DTEND;TZID=Australia/Melbourne:20240426T020000
DTSTAMP:20260420T192157
CREATED:20240507T011721Z
LAST-MODIFIED:20250310T012923Z
UID:7471-1714069800-1714096800@old.wetonwellington.com.au
SUMMARY:Queer AF
DESCRIPTION:A night for all our Gay\, Bi\, Trans\, Crossdressers and anyone part of our LGBTQI+ community – Whoever you are\, whatever you’re into\, YOU ARE WELCOME!
URL:https://old.wetonwellington.com.au/events/queer-af/
LOCATION:Wet on Wellington\, 162 Wellington Street\, Collingwood\, VIC\, 3066\, Australia
ATTACH;FMTTYPE=image/jpeg:https://old.wetonwellington.com.au/wp-content/uploads/2024/05/Queer-AF-updated-2025-1080p.jpg
END:VEVENT
BEGIN:VEVENT
DTSTART;TZID=Australia/Melbourne:20240424T183000
DTEND;TZID=Australia/Melbourne:20240425T020000
DTSTAMP:20260420T192157
CREATED:20240423T002201Z
LAST-MODIFIED:20250310T012452Z
UID:6439-1713983400-1714010400@old.wetonwellington.com.au
SUMMARY:Silver Daddy Night
DESCRIPTION:A night for all our sexy DADDIES and those who love them!
URL:https://old.wetonwellington.com.au/events/silver-daddy-night/
LOCATION:Wet on Wellington\, 162 Wellington Street\, Collingwood\, VIC\, 3066\, Australia
ATTACH;FMTTYPE=image/jpeg:https://old.wetonwellington.com.au/wp-content/uploads/2024/04/Silver-2025-1080p.jpg
END:VEVENT
END:VCALENDAR